BEGIN:VCALENDAR
VERSION:2.0
PRODID:-//Mandala Arts - ECPv6.15.13//NONSGML v1.0//EN
CALSCALE:GREGORIAN
METHOD:PUBLISH
X-WR-CALNAME:Mandala Arts
X-ORIGINAL-URL:https://www.mandalaarts.org
X-WR-CALDESC:Events for Mandala Arts
REFRESH-INTERVAL;VALUE=DURATION:PT1H
X-Robots-Tag:noindex
X-PUBLISHED-TTL:PT1H
BEGIN:VTIMEZONE
TZID:UTC
BEGIN:STANDARD
TZOFFSETFROM:+0000
TZOFFSETTO:+0000
TZNAME:UTC
DTSTART:20250101T000000
END:STANDARD
END:VTIMEZONE
BEGIN:VEVENT
DTSTART;TZID=UTC:20260530T080000
DTEND;TZID=UTC:20261016T170000
DTSTAMP:20260424T002518
CREATED:20260129T181503Z
LAST-MODIFIED:20260324T153101Z
UID:25722-1780128000-1792170000@www.mandalaarts.org
SUMMARY:Red Line Jazz Project
DESCRIPTION:Mandala Arts Red Line Project \nThe Mandala Arts Red Line Project is a Chicago-based public arts initiative that brings live jazz performances into spaces along the Chicago ‘L’ Red Line\, transforming everyday transit environments into vibrant sites of cultural exchange and musical encounter. Organized by Mandala South Asian Performing Arts\, the project uses the concept of the mandala—a symbol of unity\, rhythm\, and interconnectedness—as a guiding metaphor for collaborative musical expression. \nThrough a series of curated performances\, local jazz musicians and ensembles present short live sets at or near Red Line stations\, creating spontaneous moments of connection for commuters and neighborhood residents. The performances blend jazz improvisation with global musical influences\, reflecting Chicago’s rich musical heritage and its diverse communities. \nThe project aims to: \n\nActivate public transit spaces with live music and cultural programming\nCelebrate Chicago’s jazz legacy and the city’s vibrant community of musicians\nCreate accessible performance opportunities for artists in everyday public settings\nEncourage moments of reflection\, joy\, and connection for commuters and passersby\n\nBy placing live jazz within one of Chicago’s busiest transit corridors\, the Mandala Arts Red Line Project transforms routine travel into an immersive cultural experience—where rhythm\, improvisation\, and community converge. \nIn essence: the project uses live jazz performance in public transit spaces to embody the spirit of the mandala—interconnected voices creating a shared\, evolving musical experience.
URL:https://www.mandalaarts.org/event/red-line-jazz-project/
LOCATION:IL
ATTACH;FMTTYPE=image/jpeg:https://www.mandalaarts.org/wp-content/uploads/2026/01/RLJ_graphic1-scaled.jpg
END:VEVENT
END:VCALENDAR