BEGIN:VCALENDAR
VERSION:2.0
PRODID:-//Mandala Arts - ECPv6.15.13//NONSGML v1.0//EN
CALSCALE:GREGORIAN
METHOD:PUBLISH
X-ORIGINAL-URL:https://www.mandalaarts.org
X-WR-CALDESC:Events for Mandala Arts
REFRESH-INTERVAL;VALUE=DURATION:PT1H
X-Robots-Tag:noindex
X-PUBLISHED-TTL:PT1H
BEGIN:VTIMEZONE
TZID:UTC
BEGIN:STANDARD
TZOFFSETFROM:+0000
TZOFFSETTO:+0000
TZNAME:UTC
DTSTART:20250101T000000
END:STANDARD
END:VTIMEZONE
BEGIN:VEVENT
DTSTART;TZID=UTC:20260502T193000
DTEND;TZID=UTC:20260502T203000
DTSTAMP:20260423T205142
CREATED:20260326T170909Z
LAST-MODIFIED:20260414T213908Z
UID:25866-1777750200-1777753800@www.mandalaarts.org
SUMMARY:Purush: when power becomes poetry
DESCRIPTION:Mandala Ensemble Presents\, “Purush: When Power Becomes Poetry” featuring an evening-length performance that explores improvisation across classical Indian dance traditions by male dancers. Dancers trained in Bharatanatyam\, Kathak\, and Odissi interpret shared musical compositions through their distinct movement vocabularies and rhythmic sensibilities. As each artist responds spontaneously to the music\, the performance reveals how different classical forms approach improvisation—through unique body language\, rhythmic dialogue\, and expressive interpretation—creating a dynamic conversation between tradition\, individuality\, and creativity. \nPurchase tickets here: https://www.eventcombo.com/e/Purush-When-Power-Becomes-Poetry-78620  \nArtists:\nColin Mascarenhas is an Odissi artist and founding member of the Aikyam Odissi Dance Collective in Chicago. Trained in Mumbai under Guru Jhelum Paranjape\, he has over 20 years of experience in the Guru Kelucharan Mohapatra style of Odissi. His aesthetic draws inspiration from classical temple architecture\, reflecting Odissi’s sculptural and spiritual roots. Colin has performed at major venues across India\, including NCPA Mumbai and the US Embassy in Delhi\, as well as the Consulate of India in Chicago. He is dedicated to preserving traditional Odissi and teaching it in the Chicago area.\n\nRajagopalan Kiran James is a Chicago-based dancer\, choreographer\, educator\, and nonprofit leader whose performances and embodied practice are rooted in poetic storytelling and social justice. With 35 years of training in Bharatanatyam\, Kiran creates bold\, educative productions bridging South Asian classical and ritual dance with other world dance forms. He is the co-founder of Daya Arts\, a nonprofit highlighting South Asian and West African arts\, and Off the Beat\, a podcast imagining new futures for South Asian dance. He has performed internationally\, participated in artist residencies at Snug Harbor and Catwalk Institute\, and formerly served as Executive Director of Kalapriya.
URL:https://www.mandalaarts.org/event/purush-when-power-becomes-poetry/
LOCATION:Visceral theater\, 3121 N Rockwell St\,\, Chicago\, IL\, 60618\, United States
ATTACH;FMTTYPE=image/jpeg:https://www.mandalaarts.org/wp-content/uploads/2026/03/mmf26-banner-purush-scaled.jpg
ORGANIZER;CN="Mandala Arts":MAILTO:info@mandalaarts.org
END:VEVENT
END:VCALENDAR