BEGIN:VCALENDAR
VERSION:2.0
PRODID:-//Mandala Arts - ECPv6.15.13//NONSGML v1.0//EN
CALSCALE:GREGORIAN
METHOD:PUBLISH
X-WR-CALNAME:Mandala Arts
X-ORIGINAL-URL:https://www.mandalaarts.org
X-WR-CALDESC:Events for Mandala Arts
REFRESH-INTERVAL;VALUE=DURATION:PT1H
X-Robots-Tag:noindex
X-PUBLISHED-TTL:PT1H
BEGIN:VTIMEZONE
TZID:UTC
BEGIN:STANDARD
TZOFFSETFROM:+0000
TZOFFSETTO:+0000
TZNAME:UTC
DTSTART:20250101T000000
END:STANDARD
END:VTIMEZONE
BEGIN:VEVENT
DTSTART;TZID=UTC:20260415T203000
DTEND;TZID=UTC:20260415T233000
DTSTAMP:20260423T204114
CREATED:20260321T012820Z
LAST-MODIFIED:20260325T194403Z
UID:25785-1776285000-1776295800@www.mandalaarts.org
SUMMARY:Mandala Makers Festival & Constellation Presents: Jugalbandhi + V.V.S. Murari\, Ashwani Shankar & Sai Giridar
DESCRIPTION:Mandala Makers Festival Presents: Jugalbandhi + V.V.S. Murari\, Ashwani Shankar & Sai Giridar \nA very special evening featuring three of the top touring artists from India who will be showcasing the rare improvisational instrumental music of South Indian carnatic violin and North Indian Hindustani shehnai (reeded Indian folk instrument). The two instruments come together for a musical conversation and accompanied by South Indian mridangam (barrel shaped drum). \nPurchase tickets Here: https://wl.eventim.us/event/mandala-makers-festival-presents/684422?afflky=ConstellationChicago
URL:https://www.mandalaarts.org/event/mandala-makers-festival-constellation-presents-jugalbandhi-v-v-s-murari-ashwani-shankar-sai-giridar/
LOCATION:Constellation\, 3111 N Western Ave\, Chicago\, IL\, 60618\, United States
ATTACH;FMTTYPE=image/jpeg:https://www.mandalaarts.org/wp-content/uploads/2026/03/mmf_april15-scaled.jpg
END:VEVENT
END:VCALENDAR