BEGIN:VCALENDAR
VERSION:2.0
PRODID:-//Mandala Arts - ECPv6.15.13//NONSGML v1.0//EN
CALSCALE:GREGORIAN
METHOD:PUBLISH
X-ORIGINAL-URL:https://www.mandalaarts.org
X-WR-CALDESC:Events for Mandala Arts
REFRESH-INTERVAL;VALUE=DURATION:PT1H
X-Robots-Tag:noindex
X-PUBLISHED-TTL:PT1H
BEGIN:VTIMEZONE
TZID:UTC
BEGIN:STANDARD
TZOFFSETFROM:+0000
TZOFFSETTO:+0000
TZNAME:UTC
DTSTART:20250101T000000
END:STANDARD
END:VTIMEZONE
BEGIN:VEVENT
DTSTART;TZID=UTC:20260220T180000
DTEND;TZID=UTC:20260222T170000
DTSTAMP:20260424T000241
CREATED:20260127T205121Z
LAST-MODIFIED:20260211T204154Z
UID:25713-1771610400-1771779600@www.mandalaarts.org
SUMMARY:Siva Bhava: Love\, Care\, and the Cosmos
DESCRIPTION:Friday 20\, 2026 | 6pm \nSaturday 21\, 2026 | 4pm \nSunday 22\, 2026 | 11am
URL:https://www.mandalaarts.org/event/siva-bhava-love-care-and-the-cosmos/
LOCATION:Ruth Page Center for the Arts\, 1016 N. Dearborn St.\, Chicago\, IL\, United States
ATTACH;FMTTYPE=image/jpeg:https://www.mandalaarts.org/wp-content/uploads/2025/12/siva_banner1-scaled.jpg
END:VEVENT
END:VCALENDAR